BEGIN:VCALENDAR
VERSION:2.0
PRODID:-//Library Market//iCal Export//EN
BEGIN:VEVENT
SUMMARY:AAC MEETING
UID:4366
DTSTAMP:20260423T200000Z
DTSTART:20090408T230000Z
DTEND:20090409T013000Z
LOCATION:1 Library Dr, Port Washington, NY 11050, United States
ROOM: Hagedorn Meeting Room
DESCRIPTION:ART ADVISORY COUNCIL MEETING
URL:https://portwashington.librarycalendar.com/event/aac-meeting-7
END:VEVENT
END:VCALENDAR
