BEGIN:VCALENDAR
VERSION:2.0
PRODID:-//Library Market//iCal Export//EN
BEGIN:VEVENT
SUMMARY:High Beginner
UID:12089
DTSTAMP:20260425T032600Z
DTSTART:20160129T140000Z
DTEND:20160129T160000Z
LOCATION:1 Library Dr, Port Washington, NY 11050, United States
ROOM: High Beginner
DESCRIPTION:High Beginner
URL:https://portwashington.librarycalendar.com/event/high-beginner-31
END:VEVENT
END:VCALENDAR
