BEGIN:VCALENDAR
VERSION:2.0
PRODID:-//Library Market//iCal Export//EN
BEGIN:VEVENT
SUMMARY:New Parents Group
UID:3861
DTSTAMP:20260421T000300Z
DTSTART:20081126T193000Z
DTEND:20081126T220000Z
LOCATION:1 Library Dr, Port Washington, NY 11050, United States
ROOM: Lapham Meeting Room
DESCRIPTION:Two groups - 2:30 and 4pm.
URL:https://portwashington.librarycalendar.com/index.php/event/new-parents
 -group-85
END:VEVENT
END:VCALENDAR
