BEGIN:VCALENDAR
VERSION:2.0
PRODID:-//Library Market//iCal Export//EN
BEGIN:VEVENT
SUMMARY:ESOL High Intermediate Class
UID:3860
DTSTAMP:20260420T133000Z
DTSTART:20081126T160000Z
DTEND:20081126T180000Z
LOCATION:1 Library Dr, Port Washington, NY 11050, United States
ROOM: Hagedorn Meeting Room
DESCRIPTION:ESOL High Intermediate Class
URL:https://portwashington.librarycalendar.com/index.php/event/esol-high-i
 ntermediate-class-8
END:VEVENT
END:VCALENDAR
