BEGIN:VCALENDAR
VERSION:2.0
PRODID:-//Library Market//iCal Export//EN
BEGIN:VEVENT
SUMMARY:Tweens Night Out
UID:3160
DTSTAMP:20260419T132100Z
DTSTART:20080419T000000Z
DTEND:20080419T013000Z
LOCATION:1 Library Dr, Port Washington, NY 11050, United States
ROOM: Children&#039;s Room
DESCRIPTION:For children in grades 5 and 6.
URL:https://portwashington.librarycalendar.com/index.php/event/tweens-nigh
 t-out-2
END:VEVENT
END:VCALENDAR
