BEGIN:VCALENDAR
VERSION:2.0
PRODID:-//Library Market//iCal Export//EN
BEGIN:VEVENT
SUMMARY:PW PARENTS&#039; COUNCIL
UID:2779
DTSTAMP:20260419T132100Z
DTSTART:20080107T143000Z
DTEND:20080107T170000Z
LOCATION:1 Library Dr, Port Washington, NY 11050, United States
ROOM: Lapham Meeting Room
DESCRIPTION:PORT WASHINGTON PARENTS&#039; COUNCIL
URL:https://portwashington.librarycalendar.com/index.php/event/pw-parents-
 council-9
END:VEVENT
END:VCALENDAR
