BEGIN:VCALENDAR
VERSION:2.0
PRODID:-//Library Market//iCal Export//EN
BEGIN:VEVENT
SUMMARY:CAREER COACHING
UID:2720
DTSTAMP:20260419T172800Z
DTSTART:20071208T170000Z
DTEND:20071208T220000Z
LOCATION:1 Library Dr, Port Washington, NY 11050, United States
ROOM: CAREER COACHING
DESCRIPTION:CAREER COACHING
URL:https://portwashington.librarycalendar.com/index.php/event/career-coac
 hing-7
END:VEVENT
END:VCALENDAR
