BEGIN:VCALENDAR
VERSION:2.0
PRODID:-//Library Market//iCal Export//EN
BEGIN:VEVENT
SUMMARY:Tweens&#039; Night Out
UID:2719
DTSTAMP:20260419T172800Z
DTSTART:20071208T010000Z
DTEND:20071208T030000Z
LOCATION:1 Library Dr, Port Washington, NY 11050, United States
ROOM: Children&#039;s Room
DESCRIPTION:Workshop and get together for children in grades 5 and 6. Gift
  wrap workshop with Elise Tepper from 8-9pm. Get together from 9-10pm.
URL:https://portwashington.librarycalendar.com/index.php/event/tweens-nigh
 t-out
END:VEVENT
END:VCALENDAR
