BEGIN:VCALENDAR
VERSION:2.0
PRODID:-//Library Market//iCal Export//EN
BEGIN:VEVENT
SUMMARY:PLANNED PARENTHOOD
UID:2712
DTSTAMP:20260419T172800Z
DTSTART:20071207T000000Z
DTEND:20071207T020000Z
LOCATION:1 Library Dr, Port Washington, NY 11050, United States
ROOM: Hagedorn Meeting Room
DESCRIPTION:PLANNED PARENTHOOD SERIES OF PARENT EDUCATION WORKSHOPS
URL:https://portwashington.librarycalendar.com/index.php/event/planned-par
 enthood-2
END:VEVENT
END:VCALENDAR
