BEGIN:VCALENDAR
VERSION:2.0
PRODID:-//Library Market//iCal Export//EN
BEGIN:VEVENT
SUMMARY:USWU
UID:2711
DTSTAMP:20260419T172800Z
DTSTART:20071206T213000Z
DTEND:20071206T233000Z
LOCATION:1 Library Dr, Port Washington, NY 11050, United States
ROOM: Hagedorn Meeting Room
DESCRIPTION:UNITED STEEL WORKERS&#039; UNION
URL:https://portwashington.librarycalendar.com/index.php/event/uswu
END:VEVENT
END:VCALENDAR
