BEGIN:VCALENDAR
VERSION:2.0
PRODID:-//Library Market//iCal Export//EN
BEGIN:VEVENT
SUMMARY:ESOL Advanced Class
UID:2709
DTSTAMP:20260419T172800Z
DTSTART:20071206T151500Z
DTEND:20071206T171500Z
LOCATION:1 Library Dr, Port Washington, NY 11050, United States
ROOM: Hagedorn Meeting Room
DESCRIPTION:ADvanced conversation and writing
URL:https://portwashington.librarycalendar.com/index.php/event/esol-advanc
 ed-class-16
END:VEVENT
END:VCALENDAR
