BEGIN:VCALENDAR
VERSION:2.0
PRODID:-//Library Market//iCal Export//EN
BEGIN:VEVENT
SUMMARY:MYELOMA SUPPORT GROUP
UID:2708
DTSTAMP:20260420T013200Z
DTSTART:20071206T000000Z
DTEND:20071206T020000Z
LOCATION:1 Library Dr, Port Washington, NY 11050, United States
ROOM: Hagedorn Meeting Room
DESCRIPTION:MYELOMA SUPPORT GROUP
URL:https://portwashington.librarycalendar.com/index.php/event/myeloma-sup
 port-group
END:VEVENT
END:VCALENDAR
