BEGIN:VCALENDAR
VERSION:2.0
PRODID:-//Library Market//iCal Export//EN
BEGIN:VEVENT
SUMMARY:Parents Group
UID:2706
DTSTAMP:20260419T172800Z
DTSTART:20071205T210000Z
DTEND:20071205T223000Z
LOCATION:1 Library Dr, Port Washington, NY 11050, United States
ROOM: Lapham Meeting Room
DESCRIPTION:Weekly meeting.
URL:https://portwashington.librarycalendar.com/index.php/event/parents-gro
 up-6
END:VEVENT
END:VCALENDAR
