BEGIN:VCALENDAR
VERSION:2.0
PRODID:-//Library Market//iCal Export//EN
BEGIN:VEVENT
SUMMARY:After School Story Time
UID:2705
DTSTAMP:20260419T172800Z
DTSTART:20071205T210000Z
DTEND:20071205T213000Z
LOCATION:1 Library Dr, Port Washington, NY 11050, United States
ROOM: Story Circle
DESCRIPTION:For children in grades K to 2.
URL:https://portwashington.librarycalendar.com/index.php/event/after-schoo
 l-story-time-40
END:VEVENT
END:VCALENDAR
