BEGIN:VCALENDAR
VERSION:2.0
PRODID:-//Library Market//iCal Export//EN
BEGIN:VEVENT
SUMMARY:ESOL High Intermediate/Advanced
UID:2704
DTSTAMP:20260419T172800Z
DTSTART:20071205T163000Z
DTEND:20071205T183000Z
LOCATION:1 Library Dr, Port Washington, NY 11050, United States
ROOM: Hagedorn Meeting Room
DESCRIPTION:ESOL High Intermediate/Advanced Conversation Class
URL:https://portwashington.librarycalendar.com/index.php/event/esol-high-i
 ntermediateadvanced-9
END:VEVENT
END:VCALENDAR
