BEGIN:VCALENDAR
VERSION:2.0
PRODID:-//Library Market//iCal Export//EN
BEGIN:VEVENT
SUMMARY:NAUTICAL ADVISORY COUNCIL
UID:2702
DTSTAMP:20260419T172800Z
DTSTART:20071205T003000Z
DTEND:20071205T020000Z
LOCATION:1 Library Dr, Port Washington, NY 11050, United States
ROOM: Lapham Meeting Room
DESCRIPTION:NAUTICAL ADVISORY COUNCIL HOLIDAY PARTY
URL:https://portwashington.librarycalendar.com/index.php/event/nautical-ad
 visory-council
END:VEVENT
END:VCALENDAR
