BEGIN:VCALENDAR
VERSION:2.0
PRODID:-//Library Market//iCal Export//EN
BEGIN:VEVENT
SUMMARY:BOOKS FOR DESSERT
UID:2701
DTSTAMP:20260421T035600Z
DTSTART:20071205T000000Z
DTEND:20071205T020000Z
LOCATION:1 Library Dr, Port Washington, NY 11050, United States
ROOM: Hagedorn Meeting Room
DESCRIPTION:BOOKS FOR DESSERT
URL:https://portwashington.librarycalendar.com/index.php/event/books-desse
 rt-226
END:VEVENT
END:VCALENDAR
