BEGIN:VCALENDAR
VERSION:2.0
PRODID:-//Library Market//iCal Export//EN
BEGIN:VEVENT
SUMMARY:PWEF HOMEWORK SUPPORT
UID:2700
DTSTAMP:20260419T172800Z
DTSTART:20071204T203000Z
DTEND:20071204T223000Z
LOCATION:1 Library Dr, Port Washington, NY 11050, United States
ROOM: Lapham Meeting Room
DESCRIPTION:PORT WASHINGTON EDUCATION FOUNDATION HOMEWORK SUPPORT GROUP
URL:https://portwashington.librarycalendar.com/index.php/event/pwef-homewo
 rk-support-6
END:VEVENT
END:VCALENDAR
