BEGIN:VCALENDAR
VERSION:2.0
PRODID:-//Library Market//iCal Export//EN
BEGIN:VEVENT
SUMMARY:TAP ROOT
UID:2697
DTSTAMP:20260419T172800Z
DTSTART:20071204T153000Z
DTEND:20071204T173000Z
LOCATION:1 Library Dr, Port Washington, NY 11050, United States
ROOM: Hagedorn Meeting Room
DESCRIPTION:WRITERS&#039; GROUP
URL:https://portwashington.librarycalendar.com/index.php/event/tap-root-36
END:VEVENT
END:VCALENDAR
