BEGIN:VCALENDAR
VERSION:2.0
PRODID:-//Library Market//iCal Export//EN
BEGIN:VEVENT
SUMMARY:Film: &quot;Call of the Wild&quot;
UID:2694
DTSTAMP:20260419T172800Z
DTSTART:20071204T003000Z
DTEND:20071204T023000Z
LOCATION:1 Library Dr, Port Washington, NY 11050, United States
ROOM: Lapham Meeting Room
DESCRIPTION:Film: &quot;Call of the Wild&quot;
URL:https://portwashington.librarycalendar.com/index.php/event/film-call-w
 ild
END:VEVENT
END:VCALENDAR
