BEGIN:VCALENDAR
VERSION:2.0
PRODID:-//Library Market//iCal Export//EN
BEGIN:VEVENT
SUMMARY:CW INVESTORS
UID:2693
DTSTAMP:20260419T172800Z
DTSTART:20071204T000000Z
DTEND:20071204T013000Z
LOCATION:1 Library Dr, Port Washington, NY 11050, United States
ROOM: Admin Conference Room
DESCRIPTION:COW NECK INVESTORS&#039; GROUP
URL:https://portwashington.librarycalendar.com/index.php/event/cw-investor
 s-1
END:VEVENT
END:VCALENDAR
