BEGIN:VCALENDAR
VERSION:2.0
PRODID:-//Library Market//iCal Export//EN
BEGIN:VEVENT
SUMMARY:BOOKS FOR DESSERT
UID:2692
DTSTAMP:20260420T013200Z
DTSTART:20071204T000000Z
DTEND:20071204T013000Z
LOCATION:1 Library Dr, Port Washington, NY 11050, United States
ROOM: Hagedorn Meeting Room
DESCRIPTION:BOOKS FOR DESSERT (Previously on Thursday evenings)
URL:https://portwashington.librarycalendar.com/index.php/event/books-desse
 rt-225
END:VEVENT
END:VCALENDAR
