BEGIN:VCALENDAR
VERSION:2.0
PRODID:-//Library Market//iCal Export//EN
BEGIN:VEVENT
SUMMARY:BOOKS FOR DESSERT BOARD
UID:2691
DTSTAMP:20260420T013200Z
DTSTART:20071203T230000Z
DTEND:20071204T003000Z
LOCATION:1 Library Dr, Port Washington, NY 11050, United States
ROOM: BOOKS FOR DESSERT BOARD
DESCRIPTION:BOOKS FOR DESSERT BOARD MEETING
URL:https://portwashington.librarycalendar.com/index.php/event/books-desse
 rt-board-0
END:VEVENT
END:VCALENDAR
