BEGIN:VCALENDAR
VERSION:2.0
PRODID:-//Library Market//iCal Export//EN
BEGIN:VEVENT
SUMMARY:BOOKS FOR DESSERT
UID:2689
DTSTAMP:20260420T013200Z
DTSTART:20071203T150000Z
DTEND:20071203T170000Z
LOCATION:1 Library Dr, Port Washington, NY 11050, United States
ROOM: Hagedorn Meeting Room
DESCRIPTION:BOOKS FOR DESSERT
URL:https://portwashington.librarycalendar.com/index.php/event/books-desse
 rt-224
END:VEVENT
END:VCALENDAR
