BEGIN:VCALENDAR
VERSION:2.0
PRODID:-//Library Market//iCal Export//EN
BEGIN:VEVENT
SUMMARY:PW PARENTS&#039; COUNCIL
UID:2688
DTSTAMP:20260421T000300Z
DTSTART:20071203T143000Z
DTEND:20071203T170000Z
LOCATION:1 Library Dr, Port Washington, NY 11050, United States
ROOM: Lapham Meeting Room
DESCRIPTION:PORT WASHINGTON PARENTS&#039; COUNCIL
URL:https://portwashington.librarycalendar.com/index.php/event/pw-parents-
 council-8
END:VEVENT
END:VCALENDAR
