BEGIN:VCALENDAR
VERSION:2.0
PRODID:-//Library Market//iCal Export//EN
BEGIN:VEVENT
SUMMARY:Ribbon Cutting Celebration
UID:111329
DTSTAMP:20260423T072900Z
DTSTART:20260429T151500Z
DTEND:20260429T154500Z
LOCATION:1 Library Dr, Port Washington, NY 11050, United States
ROOM: Children&#039;s Room
DESCRIPTION:All agesJoin us for a story time and ribbon cutting celebratin
 g our new toy kitchen! No registration required. 
URL:https://portwashington.librarycalendar.com/index.php/event/kitchen-sto
 ry-time-111329
END:VEVENT
END:VCALENDAR
