BEGIN:VCALENDAR
VERSION:2.0
PRODID:-//Library Market//iCal Export//EN
BEGIN:VEVENT
SUMMARY:Crime Scam Prevention
UID:111170
DTSTAMP:20260419T172800Z
DTSTART:20260507T170000Z
DTEND:20260507T190000Z
LOCATION:1 Library Dr, Port Washington, NY 11050, United States
ROOM: Lapham Meeting Room
DESCRIPTION:Community Safety
URL:https://portwashington.librarycalendar.com/index.php/event/crime-scam-
 prevention-111170
END:VEVENT
END:VCALENDAR
