BEGIN:VCALENDAR
VERSION:2.0
PRODID:-//Library Market//iCal Export//EN
BEGIN:VEVENT
SUMMARY:Babysitting Workshop
UID:111026
DTSTAMP:20260423T231400Z
DTSTART:20261019T200000Z
DTEND:20261019T211500Z
LOCATION:1 Library Dr, Port Washington, NY 11050, United States
ROOM: Mezzanine Meeting Room
DESCRIPTION:hold
URL:https://portwashington.librarycalendar.com/index.php/event/babysitting
 -workshop-111026
END:VEVENT
END:VCALENDAR
