BEGIN:VCALENDAR
VERSION:2.0
PRODID:-//Library Market//iCal Export//EN
BEGIN:VEVENT
SUMMARY:MyChart For The Perplexed
UID:107650
DTSTAMP:20260421T000300Z
DTSTART:20260604T193000Z
DTEND:20260604T203000Z
LOCATION:1 Library Dr, Port Washington, NY 11050, United States
ROOM: The Lab
DESCRIPTION:MyChart is an app for managing important medical information. 
 Learn to navigate the menus and explore its helpful tools to keep you safe
  and healthy!
URL:https://portwashington.librarycalendar.com/index.php/event/mychart-per
 plexed-107650
END:VEVENT
END:VCALENDAR
